BEGIN:VCALENDAR
VERSION:2.0
PRODID:-//Spectrum Community School - ECPv6.2.8.1//NONSGML v1.0//EN
CALSCALE:GREGORIAN
METHOD:PUBLISH
X-ORIGINAL-URL:https://spectrum.sd61.bc.ca
X-WR-CALDESC:Events for Spectrum Community School
REFRESH-INTERVAL;VALUE=DURATION:PT1H
X-Robots-Tag:noindex
X-PUBLISHED-TTL:PT1H
BEGIN:VTIMEZONE
TZID:America/Vancouver
BEGIN:DAYLIGHT
TZOFFSETFROM:-0800
TZOFFSETTO:-0700
TZNAME:PDT
DTSTART:20180311T100000
END:DAYLIGHT
BEGIN:STANDARD
TZOFFSETFROM:-0700
TZOFFSETTO:-0800
TZNAME:PST
DTSTART:20181104T090000
END:STANDARD
END:VTIMEZONE
BEGIN:VEVENT
DTSTART;VALUE=DATE:20181122
DTEND;VALUE=DATE:20181123
DTSTAMP:20260423T111402
CREATED:20180710T213718Z
LAST-MODIFIED:20180710T213718Z
UID:9569-1542844800-1542931199@spectrum.sd61.bc.ca
SUMMARY:P.A.R.T.Y. Program  9:15am
DESCRIPTION:
URL:https://spectrum.sd61.bc.ca/calendar-event/p-a-r-t-y-program-915am/
END:VEVENT
BEGIN:VEVENT
DTSTART;VALUE=DATE:20181122
DTEND;VALUE=DATE:20181123
DTSTAMP:20260423T111402
CREATED:20180710T214354Z
LAST-MODIFIED:20180710T214354Z
UID:9571-1542844800-1542931199@spectrum.sd61.bc.ca
SUMMARY:Semester 1 GTP Deadline
DESCRIPTION:Grade 12 Students taking English or Communications 12 in first semester are expected to complete their GTP and have an interview by November 22. \nWinter Formal tickets will not be sold to grads taking English or Comm in 1st semester who have not completed their GTP
URL:https://spectrum.sd61.bc.ca/calendar-event/semester-1-gtp-deadline/
END:VEVENT
BEGIN:VEVENT
DTSTART;VALUE=DATE:20181123
DTEND;VALUE=DATE:20181124
DTSTAMP:20260423T111402
CREATED:20180705T163058Z
LAST-MODIFIED:20180705T163058Z
UID:9466-1542931200-1543017599@spectrum.sd61.bc.ca
SUMMARY:Pro-D Day
DESCRIPTION:Students not in school
URL:https://spectrum.sd61.bc.ca/calendar-event/pro-d-day-2/
END:VEVENT
END:VCALENDAR