BEGIN:VCALENDAR
VERSION:2.0
PRODID:-//Spectrum Community School - ECPv6.2.8.1//NONSGML v1.0//EN
CALSCALE:GREGORIAN
METHOD:PUBLISH
X-WR-CALNAME:Spectrum Community School
X-ORIGINAL-URL:https://spectrum.sd61.bc.ca
X-WR-CALDESC:Events for Spectrum Community School
REFRESH-INTERVAL;VALUE=DURATION:PT1H
X-Robots-Tag:noindex
X-PUBLISHED-TTL:PT1H
BEGIN:VTIMEZONE
TZID:America/Vancouver
BEGIN:DAYLIGHT
TZOFFSETFROM:-0800
TZOFFSETTO:-0700
TZNAME:PDT
DTSTART:20180311T100000
END:DAYLIGHT
BEGIN:STANDARD
TZOFFSETFROM:-0700
TZOFFSETTO:-0800
TZNAME:PST
DTSTART:20181104T090000
END:STANDARD
END:VTIMEZONE
BEGIN:VEVENT
DTSTART;TZID=America/Vancouver:20181204T113000
DTEND;TZID=America/Vancouver:20181204T121500
DTSTAMP:20260423T170205
CREATED:20181130T201319Z
LAST-MODIFIED:20181130T201319Z
UID:10160-1543923000-1543925700@spectrum.sd61.bc.ca
SUMMARY:Grad Proofs available
DESCRIPTION:Grad proofs will be handed out at lunch in the foyer.
URL:https://spectrum.sd61.bc.ca/calendar-event/grad-proofs-available/
END:VEVENT
END:VCALENDAR