BEGIN:VCALENDAR
VERSION:2.0
PRODID:-//Spectrum Community School - ECPv6.2.8.1//NONSGML v1.0//EN
CALSCALE:GREGORIAN
METHOD:PUBLISH
X-ORIGINAL-URL:https://spectrum.sd61.bc.ca
X-WR-CALDESC:Events for Spectrum Community School
REFRESH-INTERVAL;VALUE=DURATION:PT1H
X-Robots-Tag:noindex
X-PUBLISHED-TTL:PT1H
BEGIN:VTIMEZONE
TZID:America/Vancouver
BEGIN:DAYLIGHT
TZOFFSETFROM:-0800
TZOFFSETTO:-0700
TZNAME:PDT
DTSTART:20190310T100000
END:DAYLIGHT
BEGIN:STANDARD
TZOFFSETFROM:-0700
TZOFFSETTO:-0800
TZNAME:PST
DTSTART:20191103T090000
END:STANDARD
END:VTIMEZONE
BEGIN:VEVENT
DTSTART;VALUE=DATE:20190426
DTEND;VALUE=DATE:20190427
DTSTAMP:20260423T225712
CREATED:20180919T173428Z
LAST-MODIFIED:20180919T173428Z
UID:9809-1556236800-1556323199@spectrum.sd61.bc.ca
SUMMARY:A Touch of New Orleans Jazz Night
DESCRIPTION:Ticket information to follow
URL:https://spectrum.sd61.bc.ca/calendar-event/a-touch-of-new-orleans-jazz-night/
END:VEVENT
END:VCALENDAR