BEGIN:VCALENDAR
VERSION:2.0
PRODID:-//Spectrum Community School - ECPv6.2.8.1//NONSGML v1.0//EN
CALSCALE:GREGORIAN
METHOD:PUBLISH
X-WR-CALNAME:Spectrum Community School
X-ORIGINAL-URL:https://spectrum.sd61.bc.ca
X-WR-CALDESC:Events for Spectrum Community School
REFRESH-INTERVAL;VALUE=DURATION:PT1H
X-Robots-Tag:noindex
X-PUBLISHED-TTL:PT1H
BEGIN:VTIMEZONE
TZID:America/Vancouver
BEGIN:DAYLIGHT
TZOFFSETFROM:-0800
TZOFFSETTO:-0700
TZNAME:PDT
DTSTART:20230312T100000
END:DAYLIGHT
BEGIN:STANDARD
TZOFFSETFROM:-0700
TZOFFSETTO:-0800
TZNAME:PST
DTSTART:20231105T090000
END:STANDARD
END:VTIMEZONE
BEGIN:VEVENT
DTSTART;VALUE=DATE:20231002
DTEND;VALUE=DATE:20231004
DTSTAMP:20260425T192716
CREATED:20220915T215559Z
LAST-MODIFIED:20230705T164613Z
UID:12079-1696248000-1696334399@spectrum.sd61.bc.ca
SUMMARY:National Day for Truth & Reconcilliation
DESCRIPTION:School not in session
URL:https://spectrum.sd61.bc.ca/calendar-event/national-day-of-mourning/
END:VEVENT
BEGIN:VEVENT
DTSTART;TZID=America/Vancouver:20231003T083000
DTEND;TZID=America/Vancouver:20231003T113000
DTSTAMP:20260425T192716
CREATED:20190430T175817Z
LAST-MODIFIED:20230705T174812Z
UID:10543-1696321800-1696332600@spectrum.sd61.bc.ca
SUMMARY:Photo Retake day
DESCRIPTION:
URL:https://spectrum.sd61.bc.ca/calendar-event/photo-retake-day-2/
END:VEVENT
BEGIN:VEVENT
DTSTART;VALUE=DATE:20231009
DTEND;VALUE=DATE:20231011
DTSTAMP:20260425T192716
CREATED:20190430T175329Z
LAST-MODIFIED:20230705T175000Z
UID:10539-1696852800-1696939199@spectrum.sd61.bc.ca
SUMMARY:Thanksgiving - School Closed
DESCRIPTION:
URL:https://spectrum.sd61.bc.ca/calendar-event/thanksgiving-school-closed/
END:VEVENT
BEGIN:VEVENT
DTSTART;VALUE=DATE:20231020
DTEND;VALUE=DATE:20231022
DTSTAMP:20260425T192716
CREATED:20190430T175740Z
LAST-MODIFIED:20230705T174600Z
UID:10541-1697803200-1697889599@spectrum.sd61.bc.ca
SUMMARY:Pro-D Day - students not in session
DESCRIPTION:
URL:https://spectrum.sd61.bc.ca/calendar-event/pro-d-day-students-not-in-session-2/
END:VEVENT
END:VCALENDAR